BEGIN:VCALENDAR
VERSION:2.0
PRODID:-//Diane Ackerman - ECPv6.15.19//NONSGML v1.0//EN
CALSCALE:GREGORIAN
METHOD:PUBLISH
X-ORIGINAL-URL:https://dianeackerman.authorbytes.dev
X-WR-CALDESC:Events for Diane Ackerman
REFRESH-INTERVAL;VALUE=DURATION:PT1H
X-Robots-Tag:noindex
X-PUBLISHED-TTL:PT1H
BEGIN:VTIMEZONE
TZID:America/New_York
BEGIN:DAYLIGHT
TZOFFSETFROM:-0500
TZOFFSETTO:-0400
TZNAME:EDT
DTSTART:20250309T070000
END:DAYLIGHT
BEGIN:STANDARD
TZOFFSETFROM:-0400
TZOFFSETTO:-0500
TZNAME:EST
DTSTART:20251102T060000
END:STANDARD
BEGIN:DAYLIGHT
TZOFFSETFROM:-0500
TZOFFSETTO:-0400
TZNAME:EDT
DTSTART:20260308T070000
END:DAYLIGHT
BEGIN:STANDARD
TZOFFSETFROM:-0400
TZOFFSETTO:-0500
TZNAME:EST
DTSTART:20261101T060000
END:STANDARD
BEGIN:DAYLIGHT
TZOFFSETFROM:-0500
TZOFFSETTO:-0400
TZNAME:EDT
DTSTART:20270314T070000
END:DAYLIGHT
BEGIN:STANDARD
TZOFFSETFROM:-0400
TZOFFSETTO:-0500
TZNAME:EST
DTSTART:20271107T060000
END:STANDARD
END:VTIMEZONE
BEGIN:VEVENT
DTSTART;TZID=America/New_York:20261112T080000
DTEND;TZID=America/New_York:20261112T170000
DTSTAMP:20260424T102948
CREATED:20260309T172420Z
LAST-MODIFIED:20260309T172420Z
UID:811-1794470400-1794502800@dianeackerman.authorbytes.dev
SUMMARY:Evening in Conversation with  Maria Popova
DESCRIPTION:Poets for Science Festival\nTime: TBD \n 
URL:https://dianeackerman.authorbytes.dev/event/evening-in-conversation-with-maria-popova/
LOCATION:Wick Poetry Center\, 126 S Lincoln St\, Kent\, OH\, United States
END:VEVENT
END:VCALENDAR