BEGIN:VCALENDAR
VERSION:2.0
PRODID:-//Diane Ackerman - ECPv6.15.19//NONSGML v1.0//EN
CALSCALE:GREGORIAN
METHOD:PUBLISH
X-WR-CALNAME:Diane Ackerman
X-ORIGINAL-URL:https://dianeackerman.authorbytes.dev
X-WR-CALDESC:Events for Diane Ackerman
REFRESH-INTERVAL;VALUE=DURATION:PT1H
X-Robots-Tag:noindex
X-PUBLISHED-TTL:PT1H
BEGIN:VTIMEZONE
TZID:America/New_York
BEGIN:DAYLIGHT
TZOFFSETFROM:-0500
TZOFFSETTO:-0400
TZNAME:EDT
DTSTART:20250309T070000
END:DAYLIGHT
BEGIN:STANDARD
TZOFFSETFROM:-0400
TZOFFSETTO:-0500
TZNAME:EST
DTSTART:20251102T060000
END:STANDARD
BEGIN:DAYLIGHT
TZOFFSETFROM:-0500
TZOFFSETTO:-0400
TZNAME:EDT
DTSTART:20260308T070000
END:DAYLIGHT
BEGIN:STANDARD
TZOFFSETFROM:-0400
TZOFFSETTO:-0500
TZNAME:EST
DTSTART:20261101T060000
END:STANDARD
BEGIN:DAYLIGHT
TZOFFSETFROM:-0500
TZOFFSETTO:-0400
TZNAME:EDT
DTSTART:20270314T070000
END:DAYLIGHT
BEGIN:STANDARD
TZOFFSETFROM:-0400
TZOFFSETTO:-0500
TZNAME:EST
DTSTART:20271107T060000
END:STANDARD
END:VTIMEZONE
BEGIN:VEVENT
DTSTART;TZID=America/New_York:20260425T150000
DTEND;TZID=America/New_York:20260425T163000
DTSTAMP:20260423T201408
CREATED:20260309T165403Z
LAST-MODIFIED:20260309T165403Z
UID:797-1777129200-1777134600@dianeackerman.authorbytes.dev
SUMMARY:In Conversation with David Grinspoon
DESCRIPTION:“The Planets: A Cosmic Pastoral.”
URL:https://dianeackerman.authorbytes.dev/event/in-conversation-with-david-grinspoon/
LOCATION:Politics & Prose Bookstore\, 5015 Connecticut Ave\, Washington\, D.C.\, United States
END:VEVENT
BEGIN:VEVENT
DTSTART;TZID=America/New_York:20260508T120000
DTEND;TZID=America/New_York:20260508T133000
DTSTAMP:20260423T201408
CREATED:20260309T165824Z
LAST-MODIFIED:20260309T165824Z
UID:801-1778241600-1778247000@dianeackerman.authorbytes.dev
SUMMARY:El Aleph Festival\, Plenary Talk
DESCRIPTION:National University of Mexico.
URL:https://dianeackerman.authorbytes.dev/event/el-aleph-festival-plenary-talk/
LOCATION:National University of Mexico\, Mexico City\, Mexico
END:VEVENT
BEGIN:VEVENT
DTSTART;TZID=America/New_York:20260614T130000
DTEND;TZID=America/New_York:20260614T143000
DTSTAMP:20260423T201408
CREATED:20260309T165942Z
LAST-MODIFIED:20260309T165942Z
UID:804-1781442000-1781447400@dianeackerman.authorbytes.dev
SUMMARY:Interview on "Second Sunday" with Janna Levin
DESCRIPTION:
URL:https://dianeackerman.authorbytes.dev/event/interview-on-second-sunday-with-janna-levin/
END:VEVENT
BEGIN:VEVENT
DTSTART;VALUE=DATE:20260624
DTEND;VALUE=DATE:20260626
DTSTAMP:20260423T201408
CREATED:20260309T170624Z
LAST-MODIFIED:20260309T170624Z
UID:806-1782259200-1782431999@dianeackerman.authorbytes.dev
SUMMARY:Conference for Educators
DESCRIPTION:Talk\, Reading\, Workshop\nTime: TBD
URL:https://dianeackerman.authorbytes.dev/event/conference-for-educators/
LOCATION:Philips Exeter Academy\, 20 Main St\, Exeter\, NH\, United States
END:VEVENT
BEGIN:VEVENT
DTSTART;TZID=America/New_York:20260827T190000
DTEND;TZID=America/New_York:20260827T193000
DTSTAMP:20260423T201408
CREATED:20260309T170810Z
LAST-MODIFIED:20260309T170810Z
UID:809-1787857200-1787859000@dianeackerman.authorbytes.dev
SUMMARY:Zoom Conversation with David Levy
DESCRIPTION:Delaware Astronomical Society Book Club
URL:https://dianeackerman.authorbytes.dev/event/zoom-conversation-with-david-levy/
END:VEVENT
BEGIN:VEVENT
DTSTART;TZID=America/New_York:20261112T080000
DTEND;TZID=America/New_York:20261112T170000
DTSTAMP:20260423T201408
CREATED:20260309T172420Z
LAST-MODIFIED:20260309T172420Z
UID:811-1794470400-1794502800@dianeackerman.authorbytes.dev
SUMMARY:Evening in Conversation with  Maria Popova
DESCRIPTION:Poets for Science Festival\nTime: TBD \n 
URL:https://dianeackerman.authorbytes.dev/event/evening-in-conversation-with-maria-popova/
LOCATION:Wick Poetry Center\, 126 S Lincoln St\, Kent\, OH\, United States
END:VEVENT
END:VCALENDAR